BEGIN:VCALENDAR
VERSION:2.0
PRODID:-//eventyay//Eventyay_Dev//
BEGIN:VTIMEZONE
TZID:Asia/Bangkok
BEGIN:STANDARD
DTSTART:20000101T000000
RRULE:FREQ=YEARLY;BYMONTH=1
TZNAME:+07
TZOFFSETFROM:+0700
TZOFFSETTO:+0700
END:STANDARD
END:VTIMEZONE
BEGIN:VEVENT
UID:eventyay-ots-fossasia2026-0@dev.eventyay.com
DTSTART;TZID=Asia/Bangkok:20260508T090000
DTEND;TZID=Asia/Bangkok:20260511T170000
DESCRIPTION:Tickets: https://dev.eventyay.com/ots/fossasia2026/\nOrganizer:
  ots
DTSTAMP:20260423T092606Z
SUMMARY:FOSSASIA Summit 2026
END:VEVENT
END:VCALENDAR
