BEGIN:VCALENDAR
VERSION:2.0
PRODID:-//eventyay//Eventyay_Dev//
BEGIN:VEVENT
UID:eventyay-fossasia-summit-0@dev.eventyay.com
DTSTART:20260608T090000Z
DTEND:20260610T170000Z
DESCRIPTION:Tickets: https://dev.eventyay.com/fossasia/summit/\nOrganizer: 
 FOSSASIA
DTSTAMP:20260423T092107Z
LOCATION:Diagon Alley\, London\, United Kingdom
SUMMARY:Open Source Tech Summit 2026
END:VEVENT
END:VCALENDAR
